Workbook
Name _Ref288172453: מחיר!#REF!
Name _Ref373241086: 'תנאי סף'!#REF!
Name _Ref397199965: 'תנאי סף'!$B$11
Name _Ref476142402: מחיר!#REF!
Name _Ref501378765: 'תנאי סף'!#REF!
Name nispach4_1: 'תנאי סף'!#REF!

Sheet תנאי סף
A1: מס' סעיף: | B1: תיאור התנאי | C1: 1 | D1: 2 | E1: 3
B2: שם המציע:
B3: סוג מציע (תאגיד/שותפות/עמותה/עוסק מורשה וכדו'):
B4: תאריך הרישום במרשם (אם רלוונטי):
B5: מספר מזהה (לדוג' ח"פ):
B6: שם איש הקשר:
B7: טלפון:
B8: כתובת דוא"ל:
A9: 4.2 | B9: תנאי סף מנהליים
A10: 4.2.1 | B10: ככל שחלה על המציע חובת רישום, על פי דין, בישראל, עליו להיות רשום כדין.
A11: 4.2.2 | B11: המציע עומד בדרישות חוק עסקאות גופים ציבוריים, התשל"ו- 1976 ("חוק עסקאות גופים ציבוריים").
A12: 4.2.3 | B12: כלל השירותים המוצעים על ידי המציע עומדים בדרישות הרישוי והתקנים הנדרשים על פי דין לצורך אספקתם, ככל שישנם.
A13: 4.2.4 | B13: המציע הוא אזרח או תושב מדינת ישראל. לצורך עמידה תנאי זה על המציע לצרף תעודת זהות או אישור תושבות, לפי העניין.
A14: 4.3 | B14: תנאי סף מקצועיים
A15: 4.3.1 | B15: המציע הינו בעל תעודת "בוחן כלים תחרותיים" בתוקף מטעם הרשות לנהיגה ספורטיבית או מטעם הפדרציה הבינלאומית (FIA) בתחום הקארטינג. לצורך עמידה בתנאי זה יש לצרף העתק תעודת "בוחן כלים תחרותיים" בתוקף.
A16: 4.3.2 | B16: המציע הינו בעל רשיון נהיגה ספורטיבית בתוקף, שהונפק על ידי הרשות לנהיגה ספורטיבית. לצורך עמידה תנאי זה יש לצרף העתק רישיון.
A17: 4.3.3 | B17: המציע הינו בעל ניסיון של 4 שנים לפחות בספורט מוטורי בתחום הקארטינג, במהלך עשר השנים האחרונות. התפקידים המוכרים לצורך עמידה בסעיף זה הם כמפורט להלן: 4.3.3.1 המציע הועסק או נתן שירותי ייעוץ, בהיקף שלא יפחת מ-120 שעות בשנה קלנדרית, בתחום מהתחומים המינויים בחוק הנהיגה הספורטיבית, תשס"ו-2005, ובתקנות שהותקנו מכוחו. 4.3.3.2 מדריך ומאמן תחת גוף הכשרה מוכר, כמשמעותו בתקנות הנהיגה הספורטיבית (הוראות בדבר עיסוק כמדריך ומאמן), תש"ע-2010; לעניין סעיף זה, "גוף הכשרה מוכר" – מוסד אשר קיבל הכרה ע"י הרשות לנהיגה ספורטיבית. 4.3.3.3 בוחן כלים תחרותיים, כמשמעותו בתקנות הנהיגה הספורטיבית (רישיון כלי תחרותי), תש"ע-2010, ובהתאם לנוהל בעלי תפקידים באירוע נהיגה ספורטיבית. 4.3.3.4 מנהל מקצועי – כמשמעותו בתקנה 7 לתקנות הנהיגה הספורטיבית (הוראות בדבר עיסוק כמדריך ומאמן), תש"ע-2010. 4.3.3.5 בעל תפקיד באירוע נהיגה ספורטיבית – שופט, מאשר מסלולים או מנהל מירוץ – כמשמעותם בנוהל בעלי תפקידים באירוע נהיגה ספורטיבית. 4.3.3.6 השתתפות בתחרויות בעונה שלמה, בת 6 סבבים לפחות; מובהר כי השתתפות בעונה שלמה תיחשב כשנת ניסיון אחת בתחום הקארטינג.

Sheet איכות 
A1: מס' | B1: קריטריון: | C1: מס"ד: | D1: 1 | F1: 2 | H1: 3
C2: שם המציע: | D2: ='תנאי סף'!C2 -> 0 | F2: ='תנאי סף'!D2 -> 0 | H2: ='תנאי סף'!E2 -> 0
C3: משקל בציון האיכות | D3: נימוק / ציון גלם | E3: ציון כולל לפרמטר | F3: נימוק / ציון גלם | G3: ציון כולל לפרמטר | H3: נימוק / ציון גלם | I3: ציון כולל לפרמטר
A4: 1 | B4: תואר ראשון – בעל תואר אקדמי ראשון מוכר ע"י המל"ג יש לצרף אסמכתא (תעודת תואר אקדמאי או מסמך זכאות לתואר) | C4: 0.08
A5: 2 | B5: ניסיון היועץ המוצע בתחום הקארטינג ייבחן ניסיון היועץ המוצע בספורט מוטורי בתחום הקארטינג, כמשמעותו בסעיף 4.3.3, בעשר השנים האחרונות. עבור כל שנה שבה עסק היועץ בספורט מוטורי בתחום הקארטינג מעבר לנדרש בתנאי הסף יינתנו 10 נקודות, עד למקסימום של 30 נקודות; על אף האמור, יועץ מוצע שהוא בעל ניסיון בהשתתפות בתחרויות בלבד, לא יוכל לקבל ניקוד העולה על 15 נקודות באמת מידה זו. | C5: 0.3
A6: 3 | B6: ניסיון היועץ במתן שירותי ייעוץ – ייבחן ניסיונו של היועץ המוצע במתן שירותי ייעוץ בעשר השנים האחרונות הניקוד יינתן באופן הבא: • עבור כל לקוח שלו ניתנו שירותי ייעוץ בענף הרכב התחרותי כאמור יינתנו 3 נקודות. בגין תת-סעיף זה יינתן ניקוד עבור 3 לקוחות לכל היותר. • עבור לקוח שהוא גוף ציבורי שלו ניתנו שירותי ייעוץ בכל תחום יינתנו 5 נקודות. בגין תת-סעיף זה יינתן ניקוד עבור לקוח אחד לכל היותר. • עבור לקוח שלו ניתנו שירותי ייעוץ בתחום הספורט המוטורי בתחום הקארטינג יינתנו 7 נקודות. אם הלקוח הוא גוף ציבורי יינתנו 11 נקודות. לעניין זה "לקוח" - לקוח שקיבל שירותים מהיועץ המוצע בהיקף של 100 שעות לפחות במהלך 12 חודשים. להוכחת ניסיונו על המציע לצרף אסמכתאות (הסכמים / חשבוניות / תלושי שכר). לעניין זה "גוף ציבורי" - משרדי ממשלה, יחידות סמך, רשויות מקומיות, חברות ממשלתיות וגופים סטטוטוריים. הניקוד המקסימלי בסעיף זה – 25 נק'. | C6: 0.25
A7: 4 | B7: השתתפות היועץ בתחרויות בתחום הקארטינג – תיבחן השתתפות היועץ למשך עונה מלאה (לכל הפחות שישה סבבים, למעט ביחס לאליפות עולם) כנהג / נהג משנה / נווט בתחרויות בספורט מוטורי בתחום הקארטינג בעשר השנים האחרונות הניקוד יינתן באופן הבא: • עבור השתתפות בתחרויות מקומיות בספורט מוטורי בתחום הקארטינג בה השתתף היועץ המוצע, יינתנו 2 נק' עבור כל עונה. • עבור השתתפות בתחרויות בינלאומיות בספורט מוטורי בתחום הקארטינג בה השתתף היועץ המוצע, יינתנו 4 נק' עבור כל עונה. • עבור השתתפות בתחרויות שאורגנו על ידי ה- Federation Internationale de l'Automobile, יינתנו 5 נק' עבור כל עונה. • עבור השתתפות באליפות עולם, יינתנו 7 נק' עבור כל עונה. הניקוד המקסימלי בסעיף זה – 7 נק'. לעניין השתתפות בתחרויות יש להציג אסמכתאות מהתאחדות מוכרת בארץ או בחו"ל על השתתפות בעונה מלאה או אליפות מלאה, לעניין זה מירוץ בודד למעט אליפות עולם לא ייחשב כשנת ניסיון. לעניין זה עונת אליפות היא עונה קלנדרית כפי שמפרסמות התאחדויות הספורט המוטורי בישראל והפדרציות הבינלאומיות. | C7: 0.07
A8: 5 | B8: ראיון: ייערך ראיון לצורך התרשמות מהמציע ומהיועץ המוצע מטעמו. | C8: 0.3 | E8: =ראיונות!C10 -> 0 | G8: =ראיונות!E10 -> 0 | I8: =ראיונות!G10 -> 0
A9: סה"כ ציון איכות | C9: =SUM(C4:C8) -> 1 | D9: =SUM(E4:E8) -> 0 | F9: =SUM(G4:G8) -> 0 | H9: =SUM(I4:I8) -> 0
A10: 8.1.9 | B10: מעבר סף איכות | C10: 70
B11: מעבר סף איכות מינימאלי | C11: 60

Sheet ראיונות
C2: 1 | E2: 2 | G2: 3
A3: המציע: | C3: ='תנאי סף'!C2 -> 0 | E3: ='תנאי סף'!D2 -> 0 | G3: ='תנאי סף'!E2 -> 0
A4: היועץ המוצע:
A5: פרמטר | B5: משקל | C5: ציון | D5: נימוק | E5: ציון | F5: נימוק | G5: ציון | H5: נימוק
A6: התרשמות מידיעת השפה האנגלית ברמה של קריאת טקסטים בתחום הטכני. תיתכן בחינת היכולות במסגרת הראיון. | B6: 7
A7: התרשמות נציגי המשרד מהבנת היועץ המוצע ביחס לנהיגה הספורטיבית בארץ, ללימודים ובחינות בתחום הספורט המוטורי, למכונאות רכב ולתקנות הנדרשות לתיקון ביחס לספורט מוטורי, ביחס לספורט מוטורי בכלל ובפרט במסגרת תחום הקארטינג. | B7: 9
A8: התרשמות נציגי המשרד מהבנת היועץ המוצע ביחס לתחרויות בארץ ובעולם, לכללים הנהוגים בתחרויות בינלאומיות, הפעולות שיהיה על המשרד לנקוט כדי לעודד השתתפות ישראלית בתחרויות בינלאומיות, והתרשמות מידע טכני בסיסי של היועץ בכלים תחרותיים, כל זאת ביחס לספורט מוטורי בתחום הקארטינג. | B8: 8
A9: התרשמות כללית – יחסי אנוש, תקשורת ורהיטות, בקיאות מקצועית, שירותיות, זמינות ויכולת עבודה בלחץ. | B9: 6
A10: ציון כולל בראיון | B10: =SUM(B6:B9) -> 30 | C10: =SUM(C6:C9) -> 0 | E10: =SUM(E6:E9) -> 0 | G10: =SUM(G6:G9) -> 0

Sheet מחיר
B1: מס' הצעה | C1: 1 | D1: 2 | E1: 3
B2: שם המציע | C2: ='תנאי סף'!C2 -> 0 | D2: ='תנאי סף'!D2 -> 0 | E2: ='תנאי סף'!E2 -> 0
B3: הצעת המחיר - אחוז הנחה
B4: מחיר לאחר הנחה | C4: =1-C3 -> 1 | D4: =1-D3 -> 1 | E4: =1-E3 -> 1
B5: ציון מחיר | C5: =100*MIN($C$4:$E$4)/C4 -> 100 | D5: =100*MIN($C$4:$E$4)/D4 -> 100 | E5: =100*MIN($C$4:$E$4)/E4 -> 100
A6: משקל
A7: 0.7 | B7: ציון איכות | C7: ='איכות '!D9 -> 0 | D7: ='איכות '!F9 -> 0 | E7: ='איכות '!H9 -> 0
A8: 0.3 | B8: ציון מחיר | C8: =C5 -> 100 | D8: =D5 -> 100 | E8: =E5 -> 100
B9: סה"כ ציון | C9: =SUMPRODUCT(C7:C8,$A$7:$A$8) -> 30 | D9: =SUMPRODUCT(D7:D8,$A$7:$A$8) -> 30 | E9: =SUMPRODUCT(E7:E8,$A$7:$A$8) -> 30
